BEGIN:VCALENDAR
VERSION:2.0
PRODID:spatie/icalendar-generator
DESCRIPTION:Events from AGHO | Asociación de Guarderías Hispanas de Omaha
X-WR-CALDESC:Events from AGHO | Asociación de Guarderías Hispanas de Omah
 a
REFRESH-INTERVAL;VALUE=DURATION:PT1440M
X-PUBLISHED-TTL:PT1440M
BEGIN:VTIMEZONE
TZID:America/New_York
BEGIN:STANDARD
DTSTART:20231105T020000Z
TZOFFSETFROM:-0400
TZOFFSETTO:-0500
END:STANDARD
BEGIN:DAYLIGHT
DTSTART:20240310T020000Z
TZOFFSETFROM:-0500
TZOFFSETTO:-0400
END:DAYLIGHT
BEGIN:STANDARD
DTSTART:20241103T020000Z
TZOFFSETFROM:-0400
TZOFFSETTO:-0500
END:STANDARD
END:VTIMEZONE
BEGIN:VTIMEZONE
TZID:UTC
BEGIN:STANDARD
DTSTART:20250726T160424Z
TZOFFSETFROM:+0000
TZOFFSETTO:+0000
END:STANDARD
END:VTIMEZONE
BEGIN:VEVENT
UID:1-1
DTSTAMP:20260422T160424Z
SUMMARY:Reunión Mensual
LOCATION:
ORGANIZER;CN=AdminWeb:MAILTO:jorge.rozo.cardenas@gmail.com
DTSTART;TZID=America/New_York:20240718T193000
DTEND;TZID=America/New_York:20240718T210000
X-ALT-DESC;FMTTYPE=TEXT/HTML:<p>Florence Price's Symphony No.3 was first pe
 rformed on November 6th\, 1940. It was Ms. Price's third symphony\, follow
 ing her lost Symphony No. 2</p>\n
CATEGORIES:General
URL;VALUE=URI:https://aghomaha.org/mc-events/reunion-mensual/?mc_id=1
END:VEVENT
END:VCALENDAR